0.2500000000
0.0000000000
0.0000000000
-0.2500000000
502931.1250000000
372580.1250000000
