0.2500000000
0.0000000000
0.0000000000
-0.2500000000
503014.6250000000
374856.8750000000
