0.2500000000
0.0000000000
0.0000000000
-0.2500000000
499574.1250000000
372703.6250000000
