0.2500000000
0.0000000000
0.0000000000
-0.2500000000
499657.8750000000
374980.3750000000
