0.2500000000
0.0000000000
0.0000000000
-0.2500000000
496217.1250000000
372827.6250000000
