0.2500000000
0.0000000000
0.0000000000
-0.2500000000
496301.3750000000
375104.1250000000
