0.2500000000
0.0000000000
0.0000000000
-0.2500000000
492860.1250000000
372952.1250000000
