0.2500000000
0.0000000000
0.0000000000
-0.2500000000
492944.6250000000
375228.6250000000
