0.2500000000
0.0000000000
0.0000000000
-0.2500000000
489503.1250000000
373077.1250000000
