0.2500000000
0.0000000000
0.0000000000
-0.2500000000
489588.1250000000
375353.6250000000
