0.2500000000
0.0000000000
0.0000000000
-0.2500000000
503098.1250000000
377133.3750000000
