0.2500000000
0.0000000000
0.0000000000
-0.2500000000
503181.8750000000
379409.8750000000
