0.2500000000
0.0000000000
0.0000000000
-0.2500000000
499741.8750000000
377256.8750000000
