0.2500000000
0.0000000000
0.0000000000
-0.2500000000
499825.8750000000
379533.3750000000
