0.2500000000
0.0000000000
0.0000000000
-0.2500000000
496385.6250000000
377380.8750000000
