0.2500000000
0.0000000000
0.0000000000
-0.2500000000
496469.8750000000
379657.3750000000
