0.2500000000
0.0000000000
0.0000000000
-0.2500000000
493029.3750000000
377505.3750000000
