0.2500000000
0.0000000000
0.0000000000
-0.2500000000
493113.8750000000
379781.8750000000
