0.2500000000
0.0000000000
0.0000000000
-0.2500000000
489672.8750000000
377630.3750000000
