0.2500000000
0.0000000000
0.0000000000
-0.2500000000
489757.8750000000
379906.8750000000
