0.2500000000
0.0000000000
0.0000000000
-0.2500000000
485634.3750000000
359543.3750000000
