0.2500000000
0.0000000000
0.0000000000
-0.2500000000
485719.6250000000
361819.8750000000
