0.2500000000
0.0000000000
0.0000000000
-0.2500000000
482275.3750000000
359669.6250000000
