0.2500000000
0.0000000000
0.0000000000
-0.2500000000
482360.8750000000
361946.1250000000
