0.2500000000
0.0000000000
0.0000000000
-0.2500000000
478916.3750000000
359796.1250000000
