0.2500000000
0.0000000000
0.0000000000
-0.2500000000
479002.3750000000
362072.6250000000
