0.2500000000
0.0000000000
0.0000000000
-0.2500000000
475643.6250000000
362199.8750000000
