0.2500000000
0.0000000000
0.0000000000
-0.2500000000
472198.3750000000
360050.8750000000
