0.2500000000
0.0000000000
0.0000000000
-0.2500000000
472285.1250000000
362327.3750000000
