0.2500000000
0.0000000000
0.0000000000
-0.2500000000
485804.8750000000
364096.6250000000
