0.2500000000
0.0000000000
0.0000000000
-0.2500000000
485890.1250000000
366373.1250000000
