0.2500000000
0.0000000000
0.0000000000
-0.2500000000
482446.6250000000
364222.6250000000
