0.2500000000
0.0000000000
0.0000000000
-0.2500000000
482532.3750000000
366499.1250000000
