0.2500000000
0.0000000000
0.0000000000
-0.2500000000
479088.3750000000
364349.1250000000
