0.2500000000
0.0000000000
0.0000000000
-0.2500000000
479174.3750000000
366625.6250000000
