0.2500000000
0.0000000000
0.0000000000
-0.2500000000
475730.1250000000
364476.3750000000
