0.2500000000
0.0000000000
0.0000000000
-0.2500000000
475816.3750000000
366752.8750000000
