0.2500000000
0.0000000000
0.0000000000
-0.2500000000
472371.8750000000
364603.8750000000
