0.2500000000
0.0000000000
0.0000000000
-0.2500000000
472458.3750000000
366880.3750000000
