0.2500000000
0.0000000000
0.0000000000
-0.2500000000
485975.6250000000
368649.6250000000
