0.2500000000
0.0000000000
0.0000000000
-0.2500000000
486060.8750000000
370926.1250000000
