0.2500000000
0.0000000000
0.0000000000
-0.2500000000
482617.8750000000
368775.6250000000
