0.2500000000
0.0000000000
0.0000000000
-0.2500000000
482703.6250000000
371052.1250000000
