0.2500000000
0.0000000000
0.0000000000
-0.2500000000
479260.3750000000
368902.1250000000
