0.2500000000
0.0000000000
0.0000000000
-0.2500000000
479346.3750000000
371178.6250000000
