0.2500000000
0.0000000000
0.0000000000
-0.2500000000
475902.6250000000
369029.3750000000
