0.2500000000
0.0000000000
0.0000000000
-0.2500000000
475989.1250000000
371305.8750000000
