0.2500000000
0.0000000000
0.0000000000
-0.2500000000
472545.1250000000
369156.8750000000
