0.2500000000
0.0000000000
0.0000000000
-0.2500000000
472631.8750000000
371433.3750000000
