0.2500000000
0.0000000000
0.0000000000
-0.2500000000
486146.1250000000
373202.6250000000
